View In:
ArcGIS JavaScript
ArcGIS Online Map Viewer
ArcGIS Earth
Service Description: Forest / non-forest mask for Washington State. The mask was produced by combining two pre-existing layers, one for Eastern Washington and one for Western Washington. The eastern Washington layer was produced by the Washington Department of Natural Resources Forest Health and Resiliency Team in support of the 20-Year Forest Health Strategic Plan. The western Washington layer was produced for GNN, by LEMMA at Oregon State University.
The source data layers were reprojected from their source coordinate systems and into the 66’ pixels used in the gridmetrics and model prediction rasters.
For more information see: https://nrsig.org/projects/washington-forest-structure
These data are research products and are likely to change. They are intended only as a research product and should not be used for other purposes.
Name: WaForestInventory/Forest_Mask
Description: Forest / non-forest mask for Washington State. The mask was produced by combining two pre-existing layers, one for Eastern Washington and one for Western Washington. The eastern Washington layer was produced by the Washington Department of Natural Resources Forest Health and Resiliency Team in support of the 20-Year Forest Health Strategic Plan. The western Washington layer was produced for GNN, by LEMMA at Oregon State University.
The source data layers were reprojected from their source coordinate systems and into the 66’ pixels used in the gridmetrics and model prediction rasters.
For more information see: https://nrsig.org/projects/washington-forest-structure
These data are research products and are likely to change. They are intended only as a research product and should not be used for other purposes.
Single Fused Map Cache: false
Extent:
XMin: 594033.0001220703
YMin: 75933.00012207031
XMax: 2557533.0001220703
YMax: 1356333.0001220703
Spatial Reference: 2927
(2927)
LatestVCSWkid(0)
Initial Extent:
XMin: 594033.0001220703
YMin: 75933.00012207031
XMax: 2557533.0001220703
YMax: 1356333.0001220703
Spatial Reference: 2927
(2927)
LatestVCSWkid(0)
Full Extent:
XMin: 594033.0001220703
YMin: 75933.00012207031
XMax: 2557533.0001220703
YMax: 1356333.0001220703
Spatial Reference: 2927
(2927)
LatestVCSWkid(0)
Pixel Size X: 66.0
Pixel Size Y: 66.0
Band Count: 1
Pixel Type: U8
RasterFunction Infos: {"rasterFunctionInfos": [
{
"name": "plot_dbo_forestMask",
"description": "A raster function template.",
"help": ""
},
{
"name": "None",
"description": "",
"help": ""
}
]}
Mensuration Capabilities: Basic
Inspection Capabilities:
Has Histograms: true
Has Colormap: false
Has Multi Dimensions : false
Rendering Rule:
Min Scale: 0
Max Scale: 0
Resampling: false
Copyright Text: This model was produced by the Natural Resource Spatial Informatics Group (https://nrsig.org), as part of a Washington Department of Natural Resources funded research project.Copyright (c) 2021 University of Washington.
Service Data Type: esriImageServiceDataTypeGeneric
Min Values: 1
Max Values: 1
Mean Values: 1
Standard Deviation Values: 0
Object ID Field:
Fields:
None
Default Mosaic Method: Center
Allowed Mosaic Methods:
SortField:
SortValue: null
Mosaic Operator: First
Default Compression Quality: 75
Default Resampling Method: Bilinear
Max Record Count: null
Max Image Height: 4100
Max Image Width: 15000
Max Download Image Count: null
Max Mosaic Image Count: null
Allow Raster Function: true
Allow Copy: true
Allow Analysis: true
Allow Compute TiePoints: false
Supports Statistics: false
Supports Advanced Queries: false
Use StandardizedQueries: true
Raster Type Infos:
Name: Raster Dataset
Description: Supports all ArcGIS Raster Datasets
Help:
Has Raster Attribute Table: true
Edit Fields Info: null
Ownership Based AccessControl For Rasters: null
Child Resources:
Info
Raster Attribute Table
Histograms
Statistics
Key Properties
Legend
Raster Function Infos
Supported Operations:
Export Image
Identify
Measure
Compute Histograms
Compute Statistics Histograms
Get Samples
Compute Class Statistics
Query Boundary
Compute Pixel Location
Compute Angles
Validate
Project