{ "currentVersion": 11.5, "serviceDescription": "

Forest / non-forest mask for Washington State. The mask was produced by combining two pre-existing layers, one for Eastern Washington and one for Western Washington. The eastern Washington layer was produced by the Washington Department of Natural Resources Forest Health and Resiliency Team in support of the 20-Year Forest Health Strategic Plan. The western Washington layer was produced for GNN, by LEMMA at Oregon State University.<\/span><\/span><\/p>
The source data layers were reprojected from their source coordinate systems and into the 66\u2019 pixels used in the gridmetrics and model prediction rasters.<\/span><\/p>
For more information see: https://nrsig.org/projects/washington-forest-structure<\/span><\/span><\/p>
These data are research products and are likely to change. They are intended only as a research product and should not be used for other purposes.<\/span><\/p><\/div><\/div><\/div>", "name": "WaForestInventory/Forest_Mask", "description": "

Forest / non-forest mask for Washington State. The mask was produced by combining two pre-existing layers, one for Eastern Washington and one for Western Washington. The eastern Washington layer was produced by the Washington Department of Natural Resources Forest Health and Resiliency Team in support of the 20-Year Forest Health Strategic Plan. The western Washington layer was produced for GNN, by LEMMA at Oregon State University.<\/span><\/span><\/p>
The source data layers were reprojected from their source coordinate systems and into the 66\u2019 pixels used in the gridmetrics and model prediction rasters.<\/span><\/p>
For more information see: https://nrsig.org/projects/washington-forest-structure<\/span><\/span><\/p>
These data are research products and are likely to change. They are intended only as a research product and should not be used for other purposes.<\/span><\/p><\/div><\/div><\/div>", "extent": { "xmin": 594033.0001220703, "ymin": 75933.00012207031, "xmax": 2557533.0001220703, "ymax": 1356333.0001220703, "spatialReference": { "wkid": 2927, "latestWkid": 2927 } }, "initialExtent": { "xmin": 594033.0001220703, "ymin": 75933.00012207031, "xmax": 2557533.0001220703, "ymax": 1356333.0001220703, "spatialReference": { "wkid": 2927, "latestWkid": 2927 } }, "fullExtent": { "xmin": 594033.0001220703, "ymin": 75933.00012207031, "xmax": 2557533.0001220703, "ymax": 1356333.0001220703, "spatialReference": { "wkid": 2927, "latestWkid": 2927 } }, "sortableFields": "", "bandCount": 1, "pixelType": "U8", "minValues": [ 1 ], "maxValues": [ 1 ], "meanValues": [ 1 ], "stdvValues": [ 0 ], "serviceProperties": "Center<\/MosaicMethod>First<\/MosaicOperator>true<\/SortAscending><\/LockImageID><\/TileOrderField>0<\/TileOrderBase>0.000000<\/AvgImageSpacingX>0.000000<\/AvgImageSpacingY>0.0<\/ViewPointX>0.0<\/ViewPointY>0.0<\/ViewPointDefShiftX>0.0<\/ViewPointDefShiftY>None<\/CompressionMethod>75<\/CompressionQuality>0.010000<\/CompressionTolerance>Bilinear<\/SamplingMethod><\/ImageServiceProperties><\/ImageServer>", "allowedFields": "", "hasMultidimensions": false, "pixelSizeX": 66, "pixelSizeY": 66, "meanPixelSize": 20.11684023368047, "datasetFormat": "SDR", "uncompressedSize": 577150000, "blockWidth": 128, "blockHeight": 128, "compressionType": "LZ77", "bandNames": [ "Band_1" ], "allowCopy": true, "allowAnalysis": true, "itemAccess": false, "inspectionCapabilities": "", "minPixelSize": 0, "maxPixelSize": 0, "copyrightText": "This model was produced by the Natural Resource Spatial Informatics Group (https://nrsig.org), as part of a Washington Department of Natural Resources funded research project.Copyright (c) 2021 University of Washington.", "serviceDataType": "esriImageServiceDataTypeGeneric", "serviceSourceType": "esriImageServiceSourceTypeDataset", "objectIdField": "", "fields": [], "capabilities": "Mensuration,Image,Metadata", "defaultMosaicMethod": "Center", "allowedMosaicMethods": "", "sortField": "", "sortValue": null, "sortAscending": true, "mosaicOperator": "First", "defaultCompressionQuality": 75, "defaultResamplingMethod": "Bilinear", "maxImageHeight": 4100, "maxImageWidth": 15000, "allowRasterFunction": true, "rasterFunctionInfos": [ { "name": "plot_dbo_forestMask", "description": "A raster function template.", "help": "" }, { "name": "None", "description": "", "help": "" } ], "rasterTypeInfos": [ { "name": "Raster Dataset", "description": "Supports all ArcGIS Raster Datasets", "help": "" } ], "mensurationCapabilities": "Basic", "hasHistograms": true, "hasColormap": false, "hasRasterAttributeTable": true, "minScale": 0, "maxScale": 0, "exportTilesAllowed": false, "supportsStatistics": false, "supportsAdvancedQueries": false, "editFieldsInfo": null, "ownershipBasedAccessControlForRasters": null, "allowComputeTiePoints": false, "useStandardizedQueries": true, "advancedQueryCapabilities": { "useStandardizedQueries": true, "supportsStatistics": false, "supportsOrderBy": false, "supportsDistinct": false, "supportsPagination": false }, "spatialReference": { "wkid": 2927, "latestWkid": 2927 }, "resampling": false }