View In:
ArcGIS JavaScript
ArcGIS Online Map Viewer
ArcGIS Earth
Service Description: The purpose of this project is to apply remote sensing tools to identify (digitally map) wetland locations and classify types to demonstration areas in eastern and western Washington and to estimate the feasibility of applying a remote sensing approach to improving wetland maps for the whole state.
Name: WAWetlandMapping/Kittitas_Wetland_Classification_20170307
Description: The purpose of this project is to apply remote sensing tools to identify (digitally map) wetland locations and classify types to demonstration areas in eastern and western Washington and to estimate the feasibility of applying a remote sensing approach to improving wetland maps for the whole state.
Single Fused Map Cache: false
Extent:
XMin: 670827.4299373878
YMin: 5201974.533153573
XMax: 696950.4299373878
YMax: 5222101.533153573
Spatial Reference: 26910
(26910)
LatestVCSWkid(0)
Initial Extent:
XMin: 670827.4299373878
YMin: 5201974.533153573
XMax: 696950.4299373878
YMax: 5222101.533153573
Spatial Reference: 26910
(26910)
LatestVCSWkid(0)
Full Extent:
XMin: 670827.4299373878
YMin: 5201974.533153573
XMax: 696950.4299373878
YMax: 5222101.533153573
Spatial Reference: 26910
(26910)
LatestVCSWkid(0)
Pixel Size X: 1.0
Pixel Size Y: 1.0
Band Count: 1
Pixel Type: S8
RasterFunction Infos: {"rasterFunctionInfos": [{
"name": "None",
"description": "",
"help": ""
}]}
Mensuration Capabilities: Basic
Inspection Capabilities:
Has Histograms: true
Has Colormap: false
Has Multi Dimensions : false
Rendering Rule:
Min Scale: 0
Max Scale: 0
Copyright Text: University of Washington
Service Data Type: esriImageServiceDataTypeThematic
Min Values: 1
Max Values: 6
Mean Values: 2.9524103847828567
Standard Deviation Values: 1.1246122507703964
Object ID Field:
Fields:
None
Default Mosaic Method: Center
Allowed Mosaic Methods:
SortField:
SortValue: null
Mosaic Operator: First
Default Compression Quality: 75
Default Resampling Method: Bilinear
Max Record Count: null
Max Image Height: 4100
Max Image Width: 15000
Max Download Image Count: null
Max Mosaic Image Count: null
Allow Raster Function: true
Allow Copy: true
Allow Analysis: true
Allow Compute TiePoints: false
Supports Statistics: false
Supports Advanced Queries: false
Use StandardizedQueries: true
Raster Type Infos:
Name: Raster Dataset
Description: Supports all ArcGIS Raster Datasets
Help:
Has Raster Attribute Table: true
Edit Fields Info: null
Ownership Based AccessControl For Rasters: null
Child Resources:
Info
Raster Attribute Table
Histograms
Statistics
Key Properties
Legend
Raster Function Infos
Supported Operations:
Export Image
Identify
Measure
Compute Histograms
Compute Statistics Histograms
Get Samples
Compute Class Statistics
Query Boundary
Compute Pixel Location
Compute Angles
Validate
Project