The purpose of this project is to apply remote sensing tools to identify (digitally map) wetland locations and classify types to demonstration areas in eastern and western Washington and to estimate the feasibility of applying a remote sensing approach to improving wetland maps for the whole state.<\/SPAN><\/P><\/DIV><\/DIV>",
"name": "WAWetlandMapping/Kittitas_Wetland_Classification_20170307",
"description": "The purpose of this project is to apply remote sensing tools to identify (digitally map) wetland locations and classify types to demonstration areas in eastern and western Washington and to estimate the feasibility of applying a remote sensing approach to improving wetland maps for the whole state.<\/SPAN><\/P><\/DIV><\/DIV>",
"extent": {
"xmin": 670827.4299373878,
"ymin": 5201974.533153573,
"xmax": 696950.4299373878,
"ymax": 5222101.533153573,
"spatialReference": {
"wkid": 26910,
"latestWkid": 26910
}
},
"initialExtent": {
"xmin": 670827.4299373878,
"ymin": 5201974.533153573,
"xmax": 696950.4299373878,
"ymax": 5222101.533153573,
"spatialReference": {
"wkid": 26910,
"latestWkid": 26910
}
},
"fullExtent": {
"xmin": 670827.4299373878,
"ymin": 5201974.533153573,
"xmax": 696950.4299373878,
"ymax": 5222101.533153573,
"spatialReference": {
"wkid": 26910,
"latestWkid": 26910
}
},
"sortableFields": "",
"bandCount": 1,
"pixelType": "S8",
"minValues": [
1
],
"maxValues": [
6
],
"meanValues": [
2.9524103847828567
],
"stdvValues": [
1.1246122507703964
],
"serviceProperties": "Center<\/MosaicMethod>First<\/MosaicOperator>true<\/SortAscending><\/LockImageID><\/TileOrderField>0<\/TileOrderBase>0.000000<\/AvgImageSpacingX>0.000000<\/AvgImageSpacingY>0.0<\/ViewPointX>0.0<\/ViewPointY>0.0<\/ViewPointDefShiftX>0.0<\/ViewPointDefShiftY>None<\/CompressionMethod>75<\/CompressionQuality>0.010000<\/CompressionTolerance>Bilinear<\/SamplingMethod><\/ImageServiceProperties><\/ImageServer>",
"allowedFields": "",
"hasMultidimensions": false,
"pixelSizeX": 1,
"pixelSizeY": 1,
"meanPixelSize": 1,
"datasetFormat": "SDR",
"uncompressedSize": 525777621,
"blockWidth": 128,
"blockHeight": 128,
"compressionType": "LZ77",
"bandNames": [
"Band_1"
],
"allowCopy": true,
"allowAnalysis": true,
"itemAccess": false,
"inspectionCapabilities": "",
"minPixelSize": 0,
"maxPixelSize": 0,
"copyrightText": "University of Washington",
"serviceDataType": "esriImageServiceDataTypeThematic",
"serviceSourceType": "esriImageServiceSourceTypeDataset",
"objectIdField": "",
"fields": [],
"capabilities": "Image,Metadata,Mensuration",
"defaultMosaicMethod": "Center",
"allowedMosaicMethods": "",
"sortField": "",
"sortValue": null,
"sortAscending": true,
"mosaicOperator": "First",
"defaultCompressionQuality": 75,
"defaultResamplingMethod": "Bilinear",
"maxImageHeight": 4100,
"maxImageWidth": 15000,
"allowRasterFunction": true,
"rasterFunctionInfos": [
{
"name": "None",
"description": "",
"help": ""
}
],
"rasterTypeInfos": [
{
"name": "Raster Dataset",
"description": "Supports all ArcGIS Raster Datasets",
"help": ""
}
],
"mensurationCapabilities": "Basic",
"hasHistograms": true,
"hasColormap": false,
"hasRasterAttributeTable": true,
"minScale": 0,
"maxScale": 0,
"exportTilesAllowed": false,
"supportsStatistics": false,
"supportsAdvancedQueries": false,
"editFieldsInfo": null,
"ownershipBasedAccessControlForRasters": null,
"allowComputeTiePoints": false,
"useStandardizedQueries": true,
"advancedQueryCapabilities": {
"useStandardizedQueries": true,
"supportsStatistics": false,
"supportsOrderBy": false,
"supportsDistinct": false,
"supportsPagination": false
},
"spatialReference": {
"wkid": 26910,
"latestWkid": 26910
}
}