View In:
ArcGIS JavaScript
ArcGIS Online Map Viewer
ArcGIS Earth
Service Description: Initial study area conditions, circa 2012. Developed from 2012 GNN for Snohomish Forest Water & Climate. If conifer basal area is greater than or equal to 66% then 'Conifer', if hardwood basal area is greater than or equal to 66% then 'Hardwood', else 'Mixed'.
Name: SnohomishForestWaterClimate/GNN_InitialConditions_SpeciesClass
Description: Initial study area conditions, circa 2012. Developed from 2012 GNN for Snohomish Forest Water & Climate. If conifer basal area is greater than or equal to 66% then 'Conifer', if hardwood basal area is greater than or equal to 66% then 'Hardwood', else 'Mixed'.
Single Fused Map Cache: false
Extent:
XMin: 1240814.1071872765
YMin: 736529.2852801918
XMax: 1501148.2321874
YMax: 1028753.1102803303
Spatial Reference: 2927
(2927)
LatestVCSWkid(0)
Initial Extent:
XMin: 1240814.1071872765
YMin: 736529.2852801918
XMax: 1501148.2321874
YMax: 1028753.1102803303
Spatial Reference: 2927
(2927)
LatestVCSWkid(0)
Full Extent:
XMin: 1240814.1071872765
YMin: 736529.2852801918
XMax: 1501148.2321874
YMax: 1028753.1102803303
Spatial Reference: 2927
(2927)
LatestVCSWkid(0)
Pixel Size X: 98.42500000004674
Pixel Size Y: 98.42500000004665
Band Count: 1
Pixel Type: S8
RasterFunction Infos: {"rasterFunctionInfos": [{
"name": "None",
"description": "",
"help": ""
}]}
Mensuration Capabilities: Basic
Inspection Capabilities:
Has Histograms: true
Has Colormap: false
Has Multi Dimensions : false
Rendering Rule:
Min Scale: 0
Max Scale: 0
Copyright Text: UW Natural Resource Spatial Informatics Group; OSU LEMMA
Service Data Type: esriImageServiceDataTypeGeneric
Min Values: 1
Max Values: 4
Mean Values: 1.4210743841436326
Standard Deviation Values: 0.9148395524103553
Object ID Field:
Fields:
None
Default Mosaic Method: Center
Allowed Mosaic Methods:
SortField:
SortValue: null
Mosaic Operator: First
Default Compression Quality: 75
Default Resampling Method: Bilinear
Max Record Count: null
Max Image Height: 4100
Max Image Width: 15000
Max Download Image Count: null
Max Mosaic Image Count: null
Allow Raster Function: true
Allow Copy: true
Allow Analysis: true
Allow Compute TiePoints: false
Supports Statistics: false
Supports Advanced Queries: false
Use StandardizedQueries: true
Raster Type Infos:
Name: Raster Dataset
Description: Supports all ArcGIS Raster Datasets
Help:
Has Raster Attribute Table: true
Edit Fields Info: null
Ownership Based AccessControl For Rasters: null
Child Resources:
Info
Raster Attribute Table
Histograms
Statistics
Key Properties
Legend
Raster Function Infos
Supported Operations:
Export Image
Identify
Measure
Compute Histograms
Compute Statistics Histograms
Get Samples
Compute Class Statistics
Query Boundary
Compute Pixel Location
Compute Angles
Validate
Project