{
 "currentVersion": 11.5,
 "serviceDescription": "Initial study area conditions, circa 2012. Developed from 2012 GNN for Snohomish Forest Water & Climate. If conifer basal area is greater than or equal to 66% then 'Conifer', if hardwood basal area is greater than or equal to 66% then 'Hardwood', else 'Mixed'.",
 "name": "SnohomishForestWaterClimate/GNN_InitialConditions_SpeciesClass",
 "description": "Initial study area conditions, circa 2012. Developed from 2012 GNN for Snohomish Forest Water & Climate. If conifer basal area is greater than or equal to 66% then 'Conifer', if hardwood basal area is greater than or equal to 66% then 'Hardwood', else 'Mixed'.",
 "extent": {
  "xmin": 1240814.1071872765,
  "ymin": 736529.2852801918,
  "xmax": 1501148.2321874,
  "ymax": 1028753.1102803303,
  "spatialReference": {
   "wkid": 2927,
   "latestWkid": 2927
  }
 },
 "initialExtent": {
  "xmin": 1240814.1071872765,
  "ymin": 736529.2852801918,
  "xmax": 1501148.2321874,
  "ymax": 1028753.1102803303,
  "spatialReference": {
   "wkid": 2927,
   "latestWkid": 2927
  }
 },
 "fullExtent": {
  "xmin": 1240814.1071872765,
  "ymin": 736529.2852801918,
  "xmax": 1501148.2321874,
  "ymax": 1028753.1102803303,
  "spatialReference": {
   "wkid": 2927,
   "latestWkid": 2927
  }
 },
 "sortableFields": "",
 "bandCount": 1,
 "pixelType": "S8",
 "minValues": [
  1
 ],
 "maxValues": [
  4
 ],
 "meanValues": [
  1.4210743841436326
 ],
 "stdvValues": [
  0.9148395524103553
 ],
 "serviceProperties": "Center<\/MosaicMethod>First<\/MosaicOperator>true<\/SortAscending><\/LockImageID><\/TileOrderField>0<\/TileOrderBase>0.000000<\/AvgImageSpacingX>0.000000<\/AvgImageSpacingY>0.0<\/ViewPointX>0.0<\/ViewPointY>0.0<\/ViewPointDefShiftX>0.0<\/ViewPointDefShiftY>None<\/CompressionMethod>75<\/CompressionQuality>0.010000<\/CompressionTolerance>Bilinear<\/SamplingMethod><\/ImageServiceProperties><\/ImageServer>",
 "allowedFields": "",
 "hasMultidimensions": false,
 "pixelSizeX": 98.42500000004674,
 "pixelSizeY": 98.42500000004665,
 "meanPixelSize": 30.000000000014236,
 "datasetFormat": "FGDBR",
 "uncompressedSize": 7853005,
 "blockWidth": 128,
 "blockHeight": 128,
 "compressionType": "LZ77",
 "bandNames": [
  "Band_1"
 ],
 "allowCopy": true,
 "allowAnalysis": true,
 "itemAccess": false,
 "inspectionCapabilities": "",
 "minPixelSize": 0,
 "maxPixelSize": 0,
 "copyrightText": "UW Natural Resource Spatial Informatics Group; OSU LEMMA",
 "serviceDataType": "esriImageServiceDataTypeGeneric",
 "serviceSourceType": "esriImageServiceSourceTypeDataset",
 "objectIdField": "",
 "fields": [],
 "capabilities": "Image,Metadata,Mensuration",
 "defaultMosaicMethod": "Center",
 "allowedMosaicMethods": "",
 "sortField": "",
 "sortValue": null,
 "sortAscending": true,
 "mosaicOperator": "First",
 "defaultCompressionQuality": 75,
 "defaultResamplingMethod": "Bilinear",
 "maxImageHeight": 4100,
 "maxImageWidth": 15000,
 "allowRasterFunction": true,
 "rasterFunctionInfos": [
  {
   "name": "None",
   "description": "",
   "help": ""
  }
 ],
 "rasterTypeInfos": [
  {
   "name": "Raster Dataset",
   "description": "Supports all ArcGIS Raster Datasets",
   "help": ""
  }
 ],
 "mensurationCapabilities": "Basic",
 "hasHistograms": true,
 "hasColormap": false,
 "hasRasterAttributeTable": true,
 "minScale": 0,
 "maxScale": 0,
 "exportTilesAllowed": false,
 "supportsStatistics": false,
 "supportsAdvancedQueries": false,
 "editFieldsInfo": null,
 "ownershipBasedAccessControlForRasters": null,
 "allowComputeTiePoints": false,
 "useStandardizedQueries": true,
 "advancedQueryCapabilities": {
  "useStandardizedQueries": true,
  "supportsStatistics": false,
  "supportsOrderBy": false,
  "supportsDistinct": false,
  "supportsPagination": false
 },
 "spatialReference": {
  "wkid": 2927,
  "latestWkid": 2927
 }
}
