View In:
ArcGIS JavaScript
ArcGIS Online Map Viewer
ArcGIS Earth
Service Description: These data are most appropriately used to characterize vegetation conditions across landscapes, counties, watersheds, or ecoregions (areas larger than stands or patches). In general the data are appropriately used for planning and policy level analyses and decisions. Local map accuracy may be insufficient to support local- (e.g. stand-) scale decisions.
Name: SnohomishForestWaterClimate/GNN_2012
Description: These data are most appropriately used to characterize vegetation conditions across landscapes, counties, watersheds, or ecoregions (areas larger than stands or patches). In general the data are appropriately used for planning and policy level analyses and decisions. Local map accuracy may be insufficient to support local- (e.g. stand-) scale decisions.
Single Fused Map Cache: false
Extent:
XMin: 1110204.132187215
YMin: 657789.2852801546
XMax: 1574573.282187435
YMax: 1119402.5352803732
Spatial Reference: 2927
(2927)
LatestVCSWkid(0)
Initial Extent:
XMin: 1110204.132187215
YMin: 657789.2852801546
XMax: 1574573.282187435
YMax: 1119402.5352803732
Spatial Reference: 2927
(2927)
LatestVCSWkid(0)
Full Extent:
XMin: 1110204.132187215
YMin: 657789.2852801546
XMax: 1574573.282187435
YMax: 1119402.5352803732
Spatial Reference: 2927
(2927)
LatestVCSWkid(0)
Pixel Size X: 98.42500000004667
Pixel Size Y: 98.42500000004661
Band Count: 1
Pixel Type: S32
RasterFunction Infos: {"rasterFunctionInfos": [{
"name": "None",
"description": "",
"help": ""
}]}
Mensuration Capabilities: Basic
Inspection Capabilities:
Has Histograms: true
Has Colormap: false
Has Multi Dimensions : false
Rendering Rule:
Min Scale: 0
Max Scale: 0
Copyright Text: LEMMA working group (Ohmann J, Gregory M, Roberts H) http://lemma.forestry.oregonstate.edu/
Service Data Type: esriImageServiceDataTypeGeneric
Min Values: -288
Max Values: 151056
Mean Values: 81991.85174475503
Standard Deviation Values: 55791.666306704225
Object ID Field:
Fields:
None
Default Mosaic Method: Center
Allowed Mosaic Methods:
SortField:
SortValue: null
Mosaic Operator: First
Default Compression Quality: 75
Default Resampling Method: Nearest
Max Record Count: null
Max Image Height: 4100
Max Image Width: 15000
Max Download Image Count: null
Max Mosaic Image Count: null
Allow Raster Function: true
Allow Copy: true
Allow Analysis: true
Allow Compute TiePoints: false
Supports Statistics: false
Supports Advanced Queries: false
Use StandardizedQueries: true
Raster Type Infos:
Name: Raster Dataset
Description: Supports all ArcGIS Raster Datasets
Help:
Has Raster Attribute Table: true
Edit Fields Info: null
Ownership Based AccessControl For Rasters: null
Child Resources:
Info
Raster Attribute Table
Histograms
Statistics
Key Properties
Legend
Raster Function Infos
Supported Operations:
Export Image
Identify
Measure
Compute Histograms
Compute Statistics Histograms
Get Samples
Compute Class Statistics
Query Boundary
Compute Pixel Location
Compute Angles
Validate
Project