These data are most appropriately used to characterize vegetation conditions across landscapes, counties, watersheds, or ecoregions (areas larger than stands or patches). In general the data are appropriately used for planning and policy level analyses and decisions. Local map accuracy may be insufficient to support local- (e.g. stand-) scale decisions.<\/SPAN><\/P><\/DIV><\/DIV><\/DIV>",
"name": "SnohomishForestWaterClimate/GNN_2012",
"description": "These data are most appropriately used to characterize vegetation conditions across landscapes, counties, watersheds, or ecoregions (areas larger than stands or patches). In general the data are appropriately used for planning and policy level analyses and decisions. Local map accuracy may be insufficient to support local- (e.g. stand-) scale decisions.<\/SPAN><\/P><\/DIV><\/DIV><\/DIV>",
"extent": {
"xmin": 1110204.132187215,
"ymin": 657789.2852801546,
"xmax": 1574573.282187435,
"ymax": 1119402.5352803732,
"spatialReference": {
"wkid": 2927,
"latestWkid": 2927
}
},
"initialExtent": {
"xmin": 1110204.132187215,
"ymin": 657789.2852801546,
"xmax": 1574573.282187435,
"ymax": 1119402.5352803732,
"spatialReference": {
"wkid": 2927,
"latestWkid": 2927
}
},
"fullExtent": {
"xmin": 1110204.132187215,
"ymin": 657789.2852801546,
"xmax": 1574573.282187435,
"ymax": 1119402.5352803732,
"spatialReference": {
"wkid": 2927,
"latestWkid": 2927
}
},
"sortableFields": "",
"bandCount": 1,
"pixelType": "S32",
"minValues": [
-288
],
"maxValues": [
151056
],
"meanValues": [
81991.85174475503
],
"stdvValues": [
55791.666306704225
],
"serviceProperties": "Center<\/MosaicMethod>First<\/MosaicOperator>true<\/SortAscending><\/LockImageID><\/TileOrderField>0<\/TileOrderBase>0.000000<\/AvgImageSpacingX>0.000000<\/AvgImageSpacingY>0.0<\/ViewPointX>0.0<\/ViewPointY>0.0<\/ViewPointDefShiftX>0.0<\/ViewPointDefShiftY>None<\/CompressionMethod>75<\/CompressionQuality>0.010000<\/CompressionTolerance>Nearest<\/SamplingMethod><\/ImageServiceProperties><\/ImageServer>",
"allowedFields": "",
"hasMultidimensions": false,
"pixelSizeX": 98.42500000004667,
"pixelSizeY": 98.42500000004661,
"meanPixelSize": 30.000000000014218,
"datasetFormat": "SDR",
"uncompressedSize": 88509680,
"blockWidth": 128,
"blockHeight": 128,
"compressionType": "LZ77",
"bandNames": [
"Band_1"
],
"allowCopy": true,
"allowAnalysis": true,
"itemAccess": false,
"inspectionCapabilities": "",
"minPixelSize": 0,
"maxPixelSize": 0,
"copyrightText": "LEMMA working group (Ohmann J, Gregory M, Roberts H) http://lemma.forestry.oregonstate.edu/",
"serviceDataType": "esriImageServiceDataTypeGeneric",
"serviceSourceType": "esriImageServiceSourceTypeDataset",
"objectIdField": "",
"fields": [],
"capabilities": "Image,Metadata,Mensuration",
"defaultMosaicMethod": "Center",
"allowedMosaicMethods": "",
"sortField": "",
"sortValue": null,
"sortAscending": true,
"mosaicOperator": "First",
"defaultCompressionQuality": 75,
"defaultResamplingMethod": "Nearest",
"maxImageHeight": 4100,
"maxImageWidth": 15000,
"allowRasterFunction": true,
"rasterFunctionInfos": [
{
"name": "None",
"description": "",
"help": ""
}
],
"rasterTypeInfos": [
{
"name": "Raster Dataset",
"description": "Supports all ArcGIS Raster Datasets",
"help": ""
}
],
"mensurationCapabilities": "Basic",
"hasHistograms": true,
"hasColormap": false,
"hasRasterAttributeTable": true,
"minScale": 0,
"maxScale": 0,
"exportTilesAllowed": false,
"supportsStatistics": false,
"supportsAdvancedQueries": false,
"editFieldsInfo": null,
"ownershipBasedAccessControlForRasters": null,
"allowComputeTiePoints": false,
"useStandardizedQueries": true,
"advancedQueryCapabilities": {
"useStandardizedQueries": true,
"supportsStatistics": false,
"supportsOrderBy": false,
"supportsDistinct": false,
"supportsPagination": false
},
"spatialReference": {
"wkid": 2927,
"latestWkid": 2927
}
}