View In:
ArcGIS JavaScript
ArcGIS Online Map Viewer
ArcGIS Earth
Service Description: Total cubic foot volume, calculated using the National Volume Estimator Library (NVEL), of live trees, with DBH >= 6”
Units: Cubic feet per acre
Global model accuracy Pseudo-R^2=0.7319, RMSE=2972
This model is a composite of 8 sub-models, one per FVS Variant and cover class. The Model Classes layer shows where each sub-model was used.
For more information see: https://nrsig.org/projects/washington-forest-structure
These data are research products and are likely to change. They are intended only as a research product and should not be used for other purposes.
Name: WaForestInventory/TCuFt_GE6
Description: Total cubic foot volume, calculated using the National Volume Estimator Library (NVEL), of live trees, with DBH >= 6”
Units: Cubic feet per acre
Global model accuracy Pseudo-R^2=0.7319, RMSE=2972
This model is a composite of 8 sub-models, one per FVS Variant and cover class. The Model Classes layer shows where each sub-model was used.
For more information see: https://nrsig.org/projects/washington-forest-structure
These data are research products and are likely to change. They are intended only as a research product and should not be used for other purposes.
Single Fused Map Cache: false
Extent:
XMin: 602481.0001220703
YMin: 81807.00012207055
XMax: 2551197.0001220703
YMax: 1355607.0001220705
Spatial Reference: 2927
(2927)
LatestVCSWkid(0)
Initial Extent:
XMin: 602481.0001220703
YMin: 81807.00012207055
XMax: 2551197.0001220703
YMax: 1355607.0001220705
Spatial Reference: 2927
(2927)
LatestVCSWkid(0)
Full Extent:
XMin: 602481.0001220703
YMin: 81807.00012207055
XMax: 2551197.0001220703
YMax: 1355607.0001220705
Spatial Reference: 2927
(2927)
LatestVCSWkid(0)
Pixel Size X: 66.0
Pixel Size Y: 66.0
Band Count: 1
Pixel Type: F32
RasterFunction Infos: {"rasterFunctionInfos": [{
"name": "None",
"description": "",
"help": ""
}]}
Mensuration Capabilities: Basic
Inspection Capabilities:
Has Histograms: true
Has Colormap: false
Has Multi Dimensions : false
Rendering Rule:
Min Scale: 0
Max Scale: 0
Resampling: false
Copyright Text: This model was produced by the Natural Resource Spatial Informatics Group (https://nrsig.org), as part of a Washington Department of Natural Resources funded research project.Copyright (c) 2021 University of Washington.
Service Data Type: esriImageServiceDataTypeGeneric
Min Values: 0
Max Values: 64793.5859375
Mean Values: 3667.068438640026
Standard Deviation Values: 4380.739857072592
Object ID Field:
Fields:
None
Default Mosaic Method: Center
Allowed Mosaic Methods:
SortField:
SortValue: null
Mosaic Operator: First
Default Compression Quality: 75
Default Resampling Method: Bilinear
Max Record Count: null
Max Image Height: 4100
Max Image Width: 15000
Max Download Image Count: null
Max Mosaic Image Count: null
Allow Raster Function: true
Allow Copy: true
Allow Analysis: true
Allow Compute TiePoints: false
Supports Statistics: false
Supports Advanced Queries: false
Use StandardizedQueries: true
Raster Type Infos:
Name: Raster Dataset
Description: Supports all ArcGIS Raster Datasets
Help:
Has Raster Attribute Table: false
Edit Fields Info: null
Ownership Based AccessControl For Rasters: null
Child Resources:
Info
Histograms
Statistics
Key Properties
Legend
Raster Function Infos
Supported Operations:
Export Image
Identify
Measure
Compute Histograms
Compute Statistics Histograms
Get Samples
Compute Class Statistics
Query Boundary
Compute Pixel Location
Compute Angles
Validate
Project