View In:
ArcGIS JavaScript
ArcGIS Online Map Viewer
ArcGIS Earth
Service Description: The purpose of this project is to apply remote sensing tools to identify (digitally map) wetland locations and classify types to demonstration areas in eastern and western Washington and to estimate the feasibility of applying a remote sensing approach to improving wetland maps for the whole state.
Name: WAWetlandMapping/Puyallup_Wetland_Probability_20170307
Description: The purpose of this project is to apply remote sensing tools to identify (digitally map) wetland locations and classify types to demonstration areas in eastern and western Washington and to estimate the feasibility of applying a remote sensing approach to improving wetland maps for the whole state.
Single Fused Map Cache: false
Extent:
XMin: 541648.0735900656
YMin: 5181544.7976309955
XMax: 623447.717989385
YMax: 5241140.936823296
Spatial Reference: 26910
(26910)
LatestVCSWkid(0)
Initial Extent:
XMin: 541648.0735900656
YMin: 5181544.7976309955
XMax: 623447.717989385
YMax: 5241140.936823296
Spatial Reference: 26910
(26910)
LatestVCSWkid(0)
Full Extent:
XMin: 541648.0735900656
YMin: 5181544.7976309955
XMax: 623447.717989385
YMax: 5241140.936823296
Spatial Reference: 26910
(26910)
LatestVCSWkid(0)
Pixel Size X: 0.914401828804
Pixel Size Y: 0.9144018288040022
Band Count: 3
Pixel Type: S8
RasterFunction Infos: {"rasterFunctionInfos": [{
"name": "None",
"description": "",
"help": ""
}]}
Mensuration Capabilities: Basic
Inspection Capabilities:
Has Histograms: false
Has Colormap: false
Has Multi Dimensions : false
Rendering Rule:
Min Scale: 0
Max Scale: 0
Copyright Text: University of Washington
Service Data Type: esriImageServiceDataTypeElevation
Min Values: N/A
Max Values: N/A
Mean Values: N/A
Standard Deviation Values: N/A
Object ID Field:
Fields:
None
Default Mosaic Method: Center
Allowed Mosaic Methods:
SortField:
SortValue: null
Mosaic Operator: First
Default Compression Quality: 75
Default Resampling Method: Bilinear
Max Record Count: null
Max Image Height: 4100
Max Image Width: 15000
Max Download Image Count: null
Max Mosaic Image Count: null
Allow Raster Function: true
Allow Copy: true
Allow Analysis: true
Allow Compute TiePoints: false
Supports Statistics: false
Supports Advanced Queries: false
Use StandardizedQueries: true
Raster Type Infos:
Name: Raster Dataset
Description: Supports all ArcGIS Raster Datasets
Help:
Has Raster Attribute Table: false
Edit Fields Info: null
Ownership Based AccessControl For Rasters: null
Child Resources:
Info
Statistics
Key Properties
Legend
Raster Function Infos
Supported Operations:
Export Image
Identify
Measure
Compute Histograms
Compute Statistics Histograms
Get Samples
Compute Class Statistics
Query Boundary
Compute Pixel Location
Compute Angles
Validate
Project
Calculate Volume