{ "currentVersion": 11.5, "serviceDescription": "

Total cubic foot volume, calculated using the National Volume Estimator Library (NVEL), of live trees, with DBH >= 6\u201d. <\/span><\/span>Masked using the Forest Mask layer to remove non-forested areas.<\/span><\/p>
Units: Cubic feet per acre<\/span><\/span><\/p>
Global model accuracy <\/span><\/span>Pseudo-R^2=0.7319, RMSE=2972<\/span><\/p>
This model is a composite of 8 sub-models, one per FVS Variant and cover class. <\/span><\/span>The Model Classes layer shows where each sub-model was used.<\/span><\/span><\/p>
For more information see: https://nrsig.org/projects/washington-forest-structure<\/span><\/span><\/p>
These data are research products and are likely to change. They are intended only as a research product and should not be used for other purposes.<\/span><\/p><\/div><\/div><\/div>", "name": "WaForestInventory/TCuFt_GE6_Masked", "description": "

Total cubic foot volume, calculated using the National Volume Estimator Library (NVEL), of live trees, with DBH >= 6\u201d. <\/span><\/span>Masked using the Forest Mask layer to remove non-forested areas.<\/span><\/p>
Units: Cubic feet per acre<\/span><\/span><\/p>
Global model accuracy <\/span><\/span>Pseudo-R^2=0.7319, RMSE=2972<\/span><\/p>
This model is a composite of 8 sub-models, one per FVS Variant and cover class. <\/span><\/span>The Model Classes layer shows where each sub-model was used.<\/span><\/span><\/p>
For more information see: https://nrsig.org/projects/washington-forest-structure<\/span><\/span><\/p>
These data are research products and are likely to change. They are intended only as a research product and should not be used for other purposes.<\/span><\/p><\/div><\/div><\/div>", "extent": { "xmin": 602481.0001220703, "ymin": 81807.00012207055, "xmax": 2551197.0001220703, "ymax": 1355607.0001220705, "spatialReference": { "wkid": 2927, "latestWkid": 2927 } }, "initialExtent": { "xmin": 602481.0001220703, "ymin": 81807.00012207055, "xmax": 2551197.0001220703, "ymax": 1355607.0001220705, "spatialReference": { "wkid": 2927, "latestWkid": 2927 } }, "fullExtent": { "xmin": 602481.0001220703, "ymin": 81807.00012207055, "xmax": 2551197.0001220703, "ymax": 1355607.0001220705, "spatialReference": { "wkid": 2927, "latestWkid": 2927 } }, "sortableFields": "", "bandCount": 1, "pixelType": "F32", "minValues": [ 0 ], "maxValues": [ 63323.765625 ], "meanValues": [ 4930.283419301972 ], "stdvValues": [ 4669.44903347533 ], "serviceProperties": "Center<\/MosaicMethod>First<\/MosaicOperator>true<\/SortAscending><\/LockImageID><\/TileOrderField>0<\/TileOrderBase>0.000000<\/AvgImageSpacingX>0.000000<\/AvgImageSpacingY>0.0<\/ViewPointX>0.0<\/ViewPointY>0.0<\/ViewPointDefShiftX>0.0<\/ViewPointDefShiftY>None<\/CompressionMethod>75<\/CompressionQuality>0.010000<\/CompressionTolerance>Bilinear<\/SamplingMethod><\/ImageServiceProperties><\/ImageServer>", "allowedFields": "", "hasMultidimensions": false, "pixelSizeX": 66, "pixelSizeY": 66, "meanPixelSize": 20.11684023368047, "datasetFormat": "SDR", "uncompressedSize": 2279407200, "blockWidth": 128, "blockHeight": 128, "compressionType": "LZ77", "bandNames": [ "Band_1" ], "allowCopy": true, "allowAnalysis": true, "itemAccess": false, "inspectionCapabilities": "", "minPixelSize": 0, "maxPixelSize": 0, "copyrightText": "This model was produced by the Natural Resource Spatial Informatics Group (https://nrsig.org), as part of a Washington Department of Natural Resources funded research project.Copyright (c) 2021 University of Washington.", "serviceDataType": "esriImageServiceDataTypeGeneric", "serviceSourceType": "esriImageServiceSourceTypeDataset", "objectIdField": "", "fields": [], "capabilities": "Mensuration,Image,Metadata", "defaultMosaicMethod": "Center", "allowedMosaicMethods": "", "sortField": "", "sortValue": null, "sortAscending": true, "mosaicOperator": "First", "defaultCompressionQuality": 75, "defaultResamplingMethod": "Bilinear", "maxImageHeight": 4100, "maxImageWidth": 15000, "allowRasterFunction": true, "rasterFunctionInfos": [ { "name": "None", "description": "", "help": "" } ], "rasterTypeInfos": [ { "name": "Raster Dataset", "description": "Supports all ArcGIS Raster Datasets", "help": "" } ], "mensurationCapabilities": "Basic", "hasHistograms": true, "hasColormap": false, "hasRasterAttributeTable": false, "minScale": 0, "maxScale": 0, "exportTilesAllowed": false, "supportsStatistics": false, "supportsAdvancedQueries": false, "editFieldsInfo": null, "ownershipBasedAccessControlForRasters": null, "allowComputeTiePoints": false, "useStandardizedQueries": true, "advancedQueryCapabilities": { "useStandardizedQueries": true, "supportsStatistics": false, "supportsOrderBy": false, "supportsDistinct": false, "supportsPagination": false }, "spatialReference": { "wkid": 2927, "latestWkid": 2927 }, "resampling": false }