{ "currentVersion": 11.5, "serviceDescription": "

Forest structure class based on DAP-derived canopy cover and quadratic mean diameter values. Masked using the Forest Mask layer to remove non-forested areas. The canopy cover data was directly calculated by the Fusion gridmetrics program. The QMD data was modeled in the QMD_GE6_Top25Percent_LiveOrDead model.<\/SPAN><\/P>
Class, Class Name, Diameter Range, Cover Range<\/SPAN><\/P>
1, Small Open, NA, < 10%<\/SPAN><\/P>
1, Small Open, < 10\u201d, ≥ 10% and < 46%<\/SPAN><\/P>
2, Small Closed, < 10\u201d, ≥ 46%<\/SPAN><\/SPAN><\/P>
3, Medium Open, ≥ 10\u201d and < 20\u201d, ≥ 10% and < 46%<\/SPAN><\/SPAN><\/P>
4, Medium Moderate, ≥ 10\u201d and < 20\u201d, ≥ 46% and < 72%<\/SPAN><\/SPAN><\/P>
5, Medium Closed, ≥ 10\u201d and < 20\u201d, ≥ 72%<\/SPAN><\/SPAN><\/P>
6, Large Open, ≥ 20\u201d, ≥ 10% and < 46%<\/SPAN><\/SPAN><\/P>
7, Large Moderate, ≥ 20\u201d, ≥ 46% and < 72%<\/SPAN><\/SPAN><\/P>
8, Large Closed, ≥ 20\u201d, ≥ 72%<\/SPAN><\/P>
<\/P>
Units: Unitless<\/SPAN><\/SPAN><\/P>
No accuracy assessment<\/SPAN><\/P><\/DIV><\/DIV><\/DIV>", "name": "WaForestInventory/Structure_Class_Masked", "description": "

Forest structure class based on DAP-derived canopy cover and quadratic mean diameter values. Masked using the Forest Mask layer to remove non-forested areas. The canopy cover data was directly calculated by the Fusion gridmetrics program. The QMD data was modeled in the QMD_GE6_Top25Percent_LiveOrDead model.<\/SPAN><\/P>
Class, Class Name, Diameter Range, Cover Range<\/SPAN><\/P>
1, Small Open, NA, < 10%<\/SPAN><\/P>
1, Small Open, < 10\u201d, ≥ 10% and < 46%<\/SPAN><\/P>
2, Small Closed, < 10\u201d, ≥ 46%<\/SPAN><\/SPAN><\/P>
3, Medium Open, ≥ 10\u201d and < 20\u201d, ≥ 10% and < 46%<\/SPAN><\/SPAN><\/P>
4, Medium Moderate, ≥ 10\u201d and < 20\u201d, ≥ 46% and < 72%<\/SPAN><\/SPAN><\/P>
5, Medium Closed, ≥ 10\u201d and < 20\u201d, ≥ 72%<\/SPAN><\/SPAN><\/P>
6, Large Open, ≥ 20\u201d, ≥ 10% and < 46%<\/SPAN><\/SPAN><\/P>
7, Large Moderate, ≥ 20\u201d, ≥ 46% and < 72%<\/SPAN><\/SPAN><\/P>
8, Large Closed, ≥ 20\u201d, ≥ 72%<\/SPAN><\/P>
<\/P>
Units: Unitless<\/SPAN><\/SPAN><\/P>
No accuracy assessment<\/SPAN><\/P><\/DIV><\/DIV><\/DIV>", "extent": { "xmin": 594033.0001220703, "ymin": 81807.00012207055, "xmax": 2551197.0001220703, "ymax": 1355673.0001220705, "spatialReference": { "wkid": 2927, "latestWkid": 2927 } }, "initialExtent": { "xmin": 594033.0001220703, "ymin": 81807.00012207055, "xmax": 2551197.0001220703, "ymax": 1355673.0001220705, "spatialReference": { "wkid": 2927, "latestWkid": 2927 } }, "fullExtent": { "xmin": 594033.0001220703, "ymin": 81807.00012207055, "xmax": 2551197.0001220703, "ymax": 1355673.0001220705, "spatialReference": { "wkid": 2927, "latestWkid": 2927 } }, "sortableFields": "", "bandCount": 1, "pixelType": "U8", "minValues": [ 1 ], "maxValues": [ 8 ], "meanValues": [ 4.923386336908232 ], "stdvValues": [ 2.25768682826438 ], "serviceProperties": "Center<\/MosaicMethod>First<\/MosaicOperator>true<\/SortAscending><\/LockImageID><\/TileOrderField>0<\/TileOrderBase>0.000000<\/AvgImageSpacingX>0.000000<\/AvgImageSpacingY>0.0<\/ViewPointX>0.0<\/ViewPointY>0.0<\/ViewPointDefShiftX>0.0<\/ViewPointDefShiftY>None<\/CompressionMethod>75<\/CompressionQuality>0.010000<\/CompressionTolerance>Bilinear<\/SamplingMethod><\/ImageServiceProperties><\/ImageServer>", "allowedFields": "", "hasMultidimensions": false, "pixelSizeX": 66, "pixelSizeY": 66, "meanPixelSize": 20.11684023368047, "datasetFormat": "SDR", "uncompressedSize": 572351854, "blockWidth": 128, "blockHeight": 128, "compressionType": "LZ77", "bandNames": [ "Band_1" ], "allowCopy": true, "allowAnalysis": true, "itemAccess": false, "inspectionCapabilities": "", "minPixelSize": 0, "maxPixelSize": 0, "copyrightText": "This model was produced by the Natural Resource Spatial Informatics Group (https://nrsig.org), as part of a Washington Department of Natural Resources funded research project.\n\nCopyright (c) 2021 University of Washington.", "serviceDataType": "esriImageServiceDataTypeGeneric", "serviceSourceType": "esriImageServiceSourceTypeDataset", "objectIdField": "", "fields": [], "capabilities": "Image,Metadata,Mensuration", "defaultMosaicMethod": "Center", "allowedMosaicMethods": "", "sortField": "", "sortValue": null, "sortAscending": true, "mosaicOperator": "First", "defaultCompressionQuality": 75, "defaultResamplingMethod": "Bilinear", "maxImageHeight": 4100, "maxImageWidth": 15000, "allowRasterFunction": true, "rasterFunctionInfos": [ { "name": "plot_dbo_structureClass", "description": "A raster function template.", "help": "" }, { "name": "None", "description": "", "help": "" } ], "rasterTypeInfos": [ { "name": "Raster Dataset", "description": "Supports all ArcGIS Raster Datasets", "help": "" } ], "mensurationCapabilities": "Basic", "hasHistograms": true, "hasColormap": false, "hasRasterAttributeTable": true, "minScale": 0, "maxScale": 0, "exportTilesAllowed": false, "supportsStatistics": false, "supportsAdvancedQueries": false, "editFieldsInfo": null, "ownershipBasedAccessControlForRasters": null, "allowComputeTiePoints": false, "useStandardizedQueries": true, "advancedQueryCapabilities": { "useStandardizedQueries": true, "supportsStatistics": false, "supportsOrderBy": false, "supportsDistinct": false, "supportsPagination": false }, "spatialReference": { "wkid": 2927, "latestWkid": 2927 } }