{ "currentVersion": 11.5, "serviceDescription": "

Quadratic Mean Diameter of live and dead trees, with DBH >= 6\u201d. <\/SPAN><\/SPAN>Masked using the Forest Mask layer to remove non-forested areas.<\/SPAN><\/P>
Units: Inches<\/SPAN><\/SPAN><\/P>
Global model accuracy <\/SPAN><\/SPAN>Pseudo-R^2=0.5363, RMSE=4.013<\/SPAN><\/P>
This model is a composite of 8 sub-models, one per FVS Variant and cover class.<\/SPAN> The Model Classes layer shows where each sub-model was used.<\/SPAN><\/SPAN><\/P>
For more information see: https://nrsig.org/projects/washington-forest-structure<\/SPAN><\/SPAN><\/P>
These data are research products and are likely to change. They are intended only as a research product and should not be used for other purposes.<\/SPAN><\/SPAN><\/P>
<\/P><\/DIV><\/DIV><\/DIV>", "name": "WaForestInventory/QMD_GE6_LiveOrDead_Masked", "description": "

Quadratic Mean Diameter of live and dead trees, with DBH >= 6\u201d. <\/SPAN><\/SPAN>Masked using the Forest Mask layer to remove non-forested areas.<\/SPAN><\/P>
Units: Inches<\/SPAN><\/SPAN><\/P>
Global model accuracy <\/SPAN><\/SPAN>Pseudo-R^2=0.5363, RMSE=4.013<\/SPAN><\/P>
This model is a composite of 8 sub-models, one per FVS Variant and cover class.<\/SPAN> The Model Classes layer shows where each sub-model was used.<\/SPAN><\/SPAN><\/P>
For more information see: https://nrsig.org/projects/washington-forest-structure<\/SPAN><\/SPAN><\/P>
These data are research products and are likely to change. They are intended only as a research product and should not be used for other purposes.<\/SPAN><\/SPAN><\/P>
<\/P><\/DIV><\/DIV><\/DIV>", "extent": { "xmin": 602481.0001220697, "ymin": 75933.00012207031, "xmax": 2557533.00012207, "ymax": 1355607.0001220703, "spatialReference": { "wkid": 2927, "latestWkid": 2927 } }, "initialExtent": { "xmin": 602481.0001220697, "ymin": 75933.00012207031, "xmax": 2557533.00012207, "ymax": 1355607.0001220703, "spatialReference": { "wkid": 2927, "latestWkid": 2927 } }, "fullExtent": { "xmin": 602481.0001220697, "ymin": 75933.00012207031, "xmax": 2557533.00012207, "ymax": 1355607.0001220703, "spatialReference": { "wkid": 2927, "latestWkid": 2927 } }, "sortableFields": "", "bandCount": 1, "pixelType": "F32", "minValues": [ 0 ], "maxValues": [ 64.19258117675781 ], "meanValues": [ 12.572639305790691 ], "stdvValues": [ 4.376960520124508 ], "serviceProperties": "Center<\/MosaicMethod>First<\/MosaicOperator>true<\/SortAscending><\/LockImageID><\/TileOrderField>0<\/TileOrderBase>0.000000<\/AvgImageSpacingX>0.000000<\/AvgImageSpacingY>0.0<\/ViewPointX>0.0<\/ViewPointY>0.0<\/ViewPointDefShiftX>0.0<\/ViewPointDefShiftY>None<\/CompressionMethod>75<\/CompressionQuality>0.010000<\/CompressionTolerance>Bilinear<\/SamplingMethod><\/ImageServiceProperties><\/ImageServer>", "allowedFields": "", "hasMultidimensions": false, "pixelSizeX": 66, "pixelSizeY": 66, "meanPixelSize": 20.11684023368047, "datasetFormat": "SDR", "uncompressedSize": 2297363832, "blockWidth": 128, "blockHeight": 128, "compressionType": "LZ77", "bandNames": [ "Band_1" ], "allowCopy": true, "allowAnalysis": true, "itemAccess": false, "inspectionCapabilities": "", "minPixelSize": 0, "maxPixelSize": 0, "copyrightText": "This model was produced by the Natural Resource Spatial Informatics Group (https://nrsig.org), as part of a Washington Department of Natural Resources funded research project.\n\nCopyright (c) 2021 University of Washington.", "serviceDataType": "esriImageServiceDataTypeGeneric", "serviceSourceType": "esriImageServiceSourceTypeDataset", "objectIdField": "", "fields": [], "capabilities": "Image,Metadata,Mensuration", "defaultMosaicMethod": "Center", "allowedMosaicMethods": "", "sortField": "", "sortValue": null, "sortAscending": true, "mosaicOperator": "First", "defaultCompressionQuality": 75, "defaultResamplingMethod": "Bilinear", "maxImageHeight": 4100, "maxImageWidth": 15000, "allowRasterFunction": true, "rasterFunctionInfos": [ { "name": "None", "description": "", "help": "" } ], "rasterTypeInfos": [ { "name": "Raster Dataset", "description": "Supports all ArcGIS Raster Datasets", "help": "" } ], "mensurationCapabilities": "Basic", "hasHistograms": true, "hasColormap": false, "hasRasterAttributeTable": false, "minScale": 0, "maxScale": 0, "exportTilesAllowed": false, "supportsStatistics": false, "supportsAdvancedQueries": false, "editFieldsInfo": null, "ownershipBasedAccessControlForRasters": null, "allowComputeTiePoints": false, "useStandardizedQueries": true, "advancedQueryCapabilities": { "useStandardizedQueries": true, "supportsStatistics": false, "supportsOrderBy": false, "supportsDistinct": false, "supportsPagination": false }, "spatialReference": { "wkid": 2927, "latestWkid": 2927 } }