{
"currentVersion": 11.4,
"serviceDescription": "The inventory models for this project were made by combining 8 separate sub-models, based on FVS Variant and canopy cover. Each sub-model has its own parameters and coefficients.
Class, FVS Variant, Canopy Cover
11, PN+AK, LT95%
12, PN+AK, GE95%
21, WC, LT95%
22, WC, GE95%
31, EC, LT95%
32, EC, GE95%
41, IE+BM, LT95%
42, IE+BM, GE95%
For more information see: https://nrsig.org/projects/washington-forest-structureThese data are research products and are likely to change. They are intended only as a research product and should not be used for other purposes.",
"name": "WaForestInventory/Model_Classes",
"description": "The inventory models for this project were made by combining 8 separate sub-models, based on FVS Variant and canopy cover. Each sub-model has its own parameters and coefficients.
Class, FVS Variant, Canopy Cover
11, PN+AK, LT95%
12, PN+AK, GE95%
21, WC, LT95%
22, WC, GE95%
31, EC, LT95%
32, EC, GE95%
41, IE+BM, LT95%
42, IE+BM, GE95%
For more information see: https://nrsig.org/projects/washington-forest-structureThese data are research products and are likely to change. They are intended only as a research product and should not be used for other purposes.",
"extent": {
"xmin": 594033.0001220703,
"ymin": 75933.00012207031,
"xmax": 2557533.0001220703,
"ymax": 1356333.0001220703,
"spatialReference": {
"wkid": 2927,
"latestWkid": 2927
}
},
"initialExtent": {
"xmin": 594033.0001220703,
"ymin": 75933.00012207031,
"xmax": 2557533.0001220703,
"ymax": 1356333.0001220703,
"spatialReference": {
"wkid": 2927,
"latestWkid": 2927
}
},
"fullExtent": {
"xmin": 594033.0001220703,
"ymin": 75933.00012207031,
"xmax": 2557533.0001220703,
"ymax": 1356333.0001220703,
"spatialReference": {
"wkid": 2927,
"latestWkid": 2927
}
},
"sortableFields": "",
"bandCount": 1,
"pixelType": "U8",
"minValues": [
11
],
"maxValues": [
42
],
"meanValues": [
26.539790490238477
],
"stdvValues": [
9.817385075405436
],
"hasMultidimensions": false,
"pixelSizeX": 66,
"pixelSizeY": 66,
"meanPixelSize": 20.11684023368047,
"datasetFormat": "SDR",
"uncompressedSize": 577150000,
"blockWidth": 128,
"blockHeight": 128,
"compressionType": "LZ77",
"bandNames": [
"Band_1"
],
"allowCopy": true,
"allowAnalysis": true,
"itemAccess": false,
"inspectionCapabilities": "",
"minPixelSize": 0,
"maxPixelSize": 0,
"copyrightText": "This model was produced by the Natural Resource Spatial Informatics Group (https://nrsig.org), as part of a Washington Department of Natural Resources funded research project.Copyright (c) 2021 University of Washington.",
"serviceDataType": "esriImageServiceDataTypeThematic",
"serviceSourceType": "esriImageServiceSourceTypeDataset",
"objectIdField": "",
"fields": [],
"capabilities": "Mensuration,Image,Metadata",
"defaultMosaicMethod": "Center",
"allowedMosaicMethods": "",
"sortField": "",
"sortValue": null,
"sortAscending": true,
"mosaicOperator": "First",
"defaultCompressionQuality": 75,
"defaultResamplingMethod": "Nearest",
"maxImageHeight": 4100,
"maxImageWidth": 15000,
"allowRasterFunction": true,
"rasterFunctionInfos": [
{
"name": "plot_dbo_modelClasses",
"description": "A raster function template.",
"help": ""
},
{
"name": "None",
"description": "",
"help": ""
}
],
"rasterTypeInfos": [
{
"name": "Raster Dataset",
"description": "Supports all ArcGIS Raster Datasets",
"help": ""
}
],
"mensurationCapabilities": "Basic",
"hasHistograms": true,
"hasColormap": false,
"hasRasterAttributeTable": true,
"minScale": 0,
"maxScale": 0,
"exportTilesAllowed": false,
"supportsStatistics": false,
"supportsAdvancedQueries": false,
"editFieldsInfo": null,
"ownershipBasedAccessControlForRasters": null,
"allowComputeTiePoints": false,
"useStandardizedQueries": true,
"advancedQueryCapabilities": {
"useStandardizedQueries": true,
"supportsStatistics": false,
"supportsOrderBy": false,
"supportsDistinct": false,
"supportsPagination": false
},
"spatialReference": {
"wkid": 2927,
"latestWkid": 2927
},
"resampling": false
}