{ "currentVersion": 11.4, "serviceDescription": "
A custom statewide ground model was developed for this project. The DNR provided a LIDAR-derived ground model for much of the state. It combines vendor produced LIDAR ground models into a single raster that crosses LIDAR acquisition boundaries. In areas where the DNR ground model did not have data, alternate data sources were used. The DNR LIDAR portal has additional LIDAR ground models that were not part of the DNR\u2019s dataset. These were added where possible, and any remaining areas without ground data were filled in using the USGS 3DEP 1/3<\/SPAN><\/SPAN>rd<\/SPAN><\/SPAN> Arc-Second Seamless DEM.<\/SPAN><\/P> For more information see: https://nrsig.org/projects/washington-forest-structure<\/SPAN><\/SPAN><\/P> These data are research products and are likely to change. They are intended only as a research product and should not be used for other purposes.<\/SPAN><\/P><\/DIV><\/DIV><\/DIV>",
"name": "WaForestInventory/Ground_Model_Sources",
"description": " A custom statewide ground model was developed for this project. The DNR provided a LIDAR-derived ground model for much of the state. It combines vendor produced LIDAR ground models into a single raster that crosses LIDAR acquisition boundaries. In areas where the DNR ground model did not have data, alternate data sources were used. The DNR LIDAR portal has additional LIDAR ground models that were not part of the DNR\u2019s dataset. These were added where possible, and any remaining areas without ground data were filled in using the USGS 3DEP 1/3<\/SPAN><\/SPAN>rd<\/SPAN><\/SPAN> Arc-Second Seamless DEM.<\/SPAN><\/P> For more information see: https://nrsig.org/projects/washington-forest-structure<\/SPAN><\/SPAN><\/P> These data are research products and are likely to change. They are intended only as a research product and should not be used for other purposes.<\/SPAN><\/P><\/DIV><\/DIV><\/DIV>",
"extent": {
"xmin": 602540,
"ymin": 35941,
"xmax": 2602040,
"ymax": 1355596,
"spatialReference": {
"wkid": 2927,
"latestWkid": 2927
}
},
"initialExtent": {
"xmin": 602540,
"ymin": 35941,
"xmax": 2602040,
"ymax": 1355596,
"spatialReference": {
"wkid": 2927,
"latestWkid": 2927
}
},
"fullExtent": {
"xmin": 602540,
"ymin": 35941,
"xmax": 2602040,
"ymax": 1355596,
"spatialReference": {
"wkid": 2927,
"latestWkid": 2927
}
},
"sortableFields": "",
"bandCount": 1,
"pixelType": "U8",
"minValues": [
0
],
"maxValues": [
2
],
"meanValues": [
0.6787634760783495
],
"stdvValues": [
0.9192251468379625
],
"hasMultidimensions": false,
"pixelSizeX": 15,
"pixelSizeY": 15,
"meanPixelSize": 4.572009144018288,
"datasetFormat": "SDR",
"uncompressedSize": 11727334100,
"blockWidth": 128,
"blockHeight": 128,
"compressionType": "LZ77",
"bandNames": [
"Band_1"
],
"allowCopy": true,
"allowAnalysis": true,
"itemAccess": false,
"inspectionCapabilities": "",
"minPixelSize": 0,
"maxPixelSize": 0,
"copyrightText": "This model was produced by the Natural Resource Spatial Informatics Group (https://nrsig.org), as part of a Washington Department of Natural Resources funded research project.\n\nCopyright (c) 2021 University of Washington.",
"serviceDataType": "esriImageServiceDataTypeGeneric",
"serviceSourceType": "esriImageServiceSourceTypeDataset",
"objectIdField": "",
"fields": [],
"capabilities": "Image,Metadata,Mensuration",
"defaultMosaicMethod": "Center",
"allowedMosaicMethods": "",
"sortField": "",
"sortValue": null,
"sortAscending": true,
"mosaicOperator": "First",
"defaultCompressionQuality": 75,
"defaultResamplingMethod": "Bilinear",
"maxImageHeight": 4100,
"maxImageWidth": 15000,
"allowRasterFunction": true,
"rasterFunctionInfos": [
{
"name": "plot_dbo_dtm20201110_sourcesClassified",
"description": "A raster function template.",
"help": ""
},
{
"name": "None",
"description": "",
"help": ""
}
],
"rasterTypeInfos": [
{
"name": "Raster Dataset",
"description": "Supports all ArcGIS Raster Datasets",
"help": ""
}
],
"mensurationCapabilities": "Basic",
"hasHistograms": true,
"hasColormap": false,
"hasRasterAttributeTable": true,
"minScale": 0,
"maxScale": 0,
"exportTilesAllowed": false,
"supportsStatistics": false,
"supportsAdvancedQueries": false,
"editFieldsInfo": null,
"ownershipBasedAccessControlForRasters": null,
"allowComputeTiePoints": false,
"useStandardizedQueries": true,
"advancedQueryCapabilities": {
"useStandardizedQueries": true,
"supportsStatistics": false,
"supportsOrderBy": false,
"supportsDistinct": false,
"supportsPagination": false
},
"spatialReference": {
"wkid": 2927,
"latestWkid": 2927
}
}