{ "currentVersion": 11.5, "serviceDescription": "

Information about the number of DAP returns per pixel for the 2017 Statewide DAP data.<\/SPAN><\/SPAN><\/P>
This raster can be used to help identify why specific pixels are \u201cNo Data\u201d in the final model prediction rasters.<\/SPAN><\/SPAN><\/P>
Gridmetrics produces a count of the number of returns in each pixel. By default, gridmetrics will not calculate metrics for a pixel if it has less than four returns. Height thresholds are defined in gridmetrics for cover calculations, and to exclude returns below a specific height from being used for tree height calculations. For this project, both thresholds were set to six feet. If a cell only has returns below these thresholds, cover and height metrics will not be calculated by gridmetrics.<\/SPAN><\/SPAN><\/P>
For more information see: https://nrsig.org/projects/washington-forest-structure<\/SPAN><\/SPAN><\/P>
These data are research products and are likely to change. They are intended only as a research product and should not be used for other purposes.<\/SPAN><\/P><\/DIV>", "name": "WaForestInventory/DAP2017_QAQC", "description": "

Information about the number of DAP returns per pixel for the 2017 Statewide DAP data.<\/SPAN><\/SPAN><\/P>
This raster can be used to help identify why specific pixels are \u201cNo Data\u201d in the final model prediction rasters.<\/SPAN><\/SPAN><\/P>
Gridmetrics produces a count of the number of returns in each pixel. By default, gridmetrics will not calculate metrics for a pixel if it has less than four returns. Height thresholds are defined in gridmetrics for cover calculations, and to exclude returns below a specific height from being used for tree height calculations. For this project, both thresholds were set to six feet. If a cell only has returns below these thresholds, cover and height metrics will not be calculated by gridmetrics.<\/SPAN><\/SPAN><\/P>
For more information see: https://nrsig.org/projects/washington-forest-structure<\/SPAN><\/SPAN><\/P>
These data are research products and are likely to change. They are intended only as a research product and should not be used for other purposes.<\/SPAN><\/P><\/DIV>", "extent": { "xmin": 594033.0001220703, "ymin": 75933.00012207031, "xmax": 2557533.0001220703, "ymax": 1356333.0001220703, "spatialReference": { "wkid": 2927, "latestWkid": 2927 } }, "initialExtent": { "xmin": 594033.0001220703, "ymin": 75933.00012207031, "xmax": 2557533.0001220703, "ymax": 1356333.0001220703, "spatialReference": { "wkid": 2927, "latestWkid": 2927 } }, "fullExtent": { "xmin": 594033.0001220703, "ymin": 75933.00012207031, "xmax": 2557533.0001220703, "ymax": 1356333.0001220703, "spatialReference": { "wkid": 2927, "latestWkid": 2927 } }, "sortableFields": "", "bandCount": 1, "pixelType": "U8", "minValues": [ 1 ], "maxValues": [ 4 ], "meanValues": [ 3.5499843462470664 ], "stdvValues": [ 0.817526927242893 ], "serviceProperties": "Center<\/MosaicMethod>First<\/MosaicOperator>true<\/SortAscending><\/LockImageID><\/TileOrderField>0<\/TileOrderBase>0.000000<\/AvgImageSpacingX>0.000000<\/AvgImageSpacingY>0.0<\/ViewPointX>0.0<\/ViewPointY>0.0<\/ViewPointDefShiftX>0.0<\/ViewPointDefShiftY>None<\/CompressionMethod>75<\/CompressionQuality>0.010000<\/CompressionTolerance>Bilinear<\/SamplingMethod><\/ImageServiceProperties><\/ImageServer>", "allowedFields": "", "hasMultidimensions": false, "pixelSizeX": 66, "pixelSizeY": 66, "meanPixelSize": 20.11684023368047, "datasetFormat": "SDR", "uncompressedSize": 577150000, "blockWidth": 128, "blockHeight": 128, "compressionType": "LZ77", "bandNames": [ "Band_1" ], "allowCopy": true, "allowAnalysis": true, "itemAccess": false, "inspectionCapabilities": "", "minPixelSize": 0, "maxPixelSize": 0, "copyrightText": "This model was produced by the Natural Resource Spatial Informatics Group (https://nrsig.org), as part of a Washington Department of Natural Resources funded research project.\n\nCopyright (c) 2021 University of Washington.", "serviceDataType": "esriImageServiceDataTypeGeneric", "serviceSourceType": "esriImageServiceSourceTypeDataset", "objectIdField": "", "fields": [], "capabilities": "Image,Metadata,Mensuration", "defaultMosaicMethod": "Center", "allowedMosaicMethods": "", "sortField": "", "sortValue": null, "sortAscending": true, "mosaicOperator": "First", "defaultCompressionQuality": 75, "defaultResamplingMethod": "Bilinear", "maxImageHeight": 4100, "maxImageWidth": 15000, "allowRasterFunction": true, "rasterFunctionInfos": [ { "name": "plot_dbo_DAP2017_QAQC", "description": "A raster function template.", "help": "" }, { "name": "None", "description": "", "help": "" } ], "rasterTypeInfos": [ { "name": "Raster Dataset", "description": "Supports all ArcGIS Raster Datasets", "help": "" } ], "mensurationCapabilities": "Basic", "hasHistograms": true, "hasColormap": false, "hasRasterAttributeTable": true, "minScale": 0, "maxScale": 0, "exportTilesAllowed": false, "supportsStatistics": false, "supportsAdvancedQueries": false, "editFieldsInfo": null, "ownershipBasedAccessControlForRasters": null, "allowComputeTiePoints": false, "useStandardizedQueries": true, "advancedQueryCapabilities": { "useStandardizedQueries": true, "supportsStatistics": false, "supportsOrderBy": false, "supportsDistinct": false, "supportsPagination": false }, "spatialReference": { "wkid": 2927, "latestWkid": 2927 } }